BEGIN:VCALENDAR
VERSION:2.0
PRODID:-//Temple Concord - ECPv5.8.0//NONSGML v1.0//EN
CALSCALE:GREGORIAN
METHOD:PUBLISH
X-WR-CALNAME:Temple Concord
X-ORIGINAL-URL:https://templeconcord.urjdev.nychelpdesk.co
X-WR-CALDESC:Events for Temple Concord
BEGIN:VTIMEZONE
TZID:UTC
BEGIN:STANDARD
TZOFFSETFROM:+0000
TZOFFSETTO:+0000
TZNAME:UTC
DTSTART:20200101T000000
END:STANDARD
END:VTIMEZONE
BEGIN:VEVENT
DTSTART;TZID=UTC:20201102T080000
DTEND;TZID=UTC:20201102T170000
DTSTAMP:20260422T202906
CREATED:20170913T052341Z
LAST-MODIFIED:20180130T010419Z
UID:2217-1604304000-1604336400@templeconcord.urjdev.nychelpdesk.co
SUMMARY:Event 2
DESCRIPTION:Mauris consequat rhoncus dolor id sagittis. Cras tortor elit\, aliquet quis dignissim non tortor.
URL:https://templeconcord.urjdev.nychelpdesk.co/event/event-2/
CATEGORIES:Events
END:VEVENT
END:VCALENDAR